BEGIN:VCALENDAR
VERSION:2.0
PRODID:-//wp-events-plugin.com//6.4.6.4//EN
TZID:Europe/Berlin
X-WR-TIMEZONE:Europe/Berlin
BEGIN:VEVENT
UID:286@blaskapelle-bad-bayersoien.de
DTSTART;TZID=Europe/Berlin:20251225T200000
DTEND;TZID=Europe/Berlin:20251225T200000
DTSTAMP:20250404T112735Z
URL:https://blaskapelle-bad-bayersoien.de/events/weihnachtsklaenge-konzert
 -2/
SUMMARY:Weihnachtsklänge Konzert
DESCRIPTION:
CATEGORIES:Konzerte
LOCATION:Kirche\, St. Georg\, Brandstatt 4\, Bad Bayersoien\, Deutschland
GEO:47.691439;10.995635
X-APPLE-STRUCTURED-LOCATION;VALUE=URI;X-ADDRESS=Brandstatt 4\, Bad Bayersoi
 en\, Deutschland;X-APPLE-RADIUS=100;X-TITLE=Kirche\, St. Georg:geo:47.6914
 39,10.995635
END:VEVENT
BEGIN:VTIMEZONE
TZID:Europe/Berlin
X-LIC-LOCATION:Europe/Berlin
BEGIN:STANDARD
DTSTART:20251026T020000
TZOFFSETFROM:+0200
TZOFFSETTO:+0100
TZNAME:CET
END:STANDARD
END:VTIMEZONE
END:VCALENDAR