BEGIN:VCALENDAR
VERSION:2.0
PRODID:-//wp-events-plugin.com//6.4.6.4//EN
TZID:Europe/Berlin
X-WR-TIMEZONE:Europe/Berlin
BEGIN:VEVENT
UID:325@blaskapelle-bad-bayersoien.de
DTSTART;TZID=Europe/Berlin:20250727T200000
DTEND;TZID=Europe/Berlin:20250727T210000
DTSTAMP:20250427T143928Z
URL:https://blaskapelle-bad-bayersoien.de/events/sonntagskonzert-10-2025-0
 7-27/
SUMMARY:Sonntagskonzert (Swinging Reeds)
DESCRIPTION:Diese Woche haben wir frei - beim Sonntagskonzert unterhalten S
 ie die Swinging Reeds mit Musik im Bigband Stil!\n\nJe nach Witterung am K
 irchplatz oder im Dorfstadl
ATTACH;FMTTYPE=image/jpeg:https://blaskapelle-bad-bayersoien.de/wp-content
 /uploads/2023/01/39036845_1944186768971653_5247870515774750720_n.jpg
CATEGORIES:Konzerte
LOCATION:Kirchplatz\, Dorfstraße 45\, Bad Bayersoien\, Deutschland
GEO:47.691143;10.994778
X-APPLE-STRUCTURED-LOCATION;VALUE=URI;X-ADDRESS=Dorfstraße 45\, Bad Bayers
 oien\, Deutschland;X-APPLE-RADIUS=100;X-TITLE=Kirchplatz:geo:47.691143,10.
 994778
END:VEVENT
BEGIN:VTIMEZONE
TZID:Europe/Berlin
X-LIC-LOCATION:Europe/Berlin
BEGIN:DAYLIGHT
DTSTART:20250330T030000
TZOFFSETFROM:+0100
TZOFFSETTO:+0200
TZNAME:CEST
END:DAYLIGHT
END:VTIMEZONE
END:VCALENDAR