BEGIN:VCALENDAR
VERSION:2.0
PRODID:-//wp-events-plugin.com//6.4.6.4//EN
TZID:Europe/Berlin
X-WR-TIMEZONE:Europe/Berlin
BEGIN:VEVENT
UID:339@blaskapelle-bad-bayersoien.de
DTSTART;TZID=Europe/Berlin:20260329T090000
DTEND;TZID=Europe/Berlin:20260329T090000
DTSTAMP:20260307T172403Z
URL:https://blaskapelle-bad-bayersoien.de/events/palmweihe-prozession-2/
SUMMARY:Palmweihe & Prozession
DESCRIPTION:Palmweihe an der Wiese vor dem Pfarrhof\, anschließend Prozess
 ion und hl. Amt\nmit Passion - für die Lebenden und Verstorbenen der Pfar
 rei
CATEGORIES:Kirchlich
LOCATION:Pfarrhof\, Brandstatt 6\, Bad Bayersoien\, Deutschland
GEO:47.691912;10.996084
X-APPLE-STRUCTURED-LOCATION;VALUE=URI;X-ADDRESS=Brandstatt 6\, Bad Bayersoi
 en\, Deutschland;X-APPLE-RADIUS=100;X-TITLE=Pfarrhof:geo:47.691912,10.9960
 84
END:VEVENT
BEGIN:VTIMEZONE
TZID:Europe/Berlin
X-LIC-LOCATION:Europe/Berlin
BEGIN:DAYLIGHT
DTSTART:20260329T030000
TZOFFSETFROM:+0100
TZOFFSETTO:+0200
TZNAME:CEST
END:DAYLIGHT
END:VTIMEZONE
END:VCALENDAR