BEGIN:VCALENDAR
VERSION:2.0
PRODID:-//wp-events-plugin.com//6.4.6.4//EN
TZID:Europe/Berlin
X-WR-TIMEZONE:Europe/Berlin
BEGIN:VEVENT
UID:168@blaskapelle-bad-bayersoien.de
DTSTART;TZID=Europe/Berlin:20240324T090000
DTEND;TZID=Europe/Berlin:20240324T090000
DTSTAMP:20240303T211704Z
URL:https://blaskapelle-bad-bayersoien.de/events/palmenweihe-6/
SUMMARY:Palmenweihe
DESCRIPTION:
CATEGORIES:Kirchlich
LOCATION:Schulhof Bad Bayersoien\, Brandstatt 5\, Bad Bayersoien\, Deutschl
 and
GEO:47.691474;10.995988
X-APPLE-STRUCTURED-LOCATION;VALUE=URI;X-ADDRESS=Brandstatt 5\, Bad Bayersoi
 en\, Deutschland;X-APPLE-RADIUS=100;X-TITLE=Schulhof Bad Bayersoien:geo:47
 .691474,10.995988
END:VEVENT
BEGIN:VTIMEZONE
TZID:Europe/Berlin
X-LIC-LOCATION:Europe/Berlin
BEGIN:STANDARD
DTSTART:20231029T020000
TZOFFSETFROM:+0200
TZOFFSETTO:+0100
TZNAME:CET
END:STANDARD
END:VTIMEZONE
END:VCALENDAR