BEGIN:VCALENDAR
VERSION:2.0
PRODID:-//wp-events-plugin.com//6.4.6.4//EN
TZID:Europe/Berlin
X-WR-TIMEZONE:Europe/Berlin
BEGIN:VEVENT
UID:341@blaskapelle-bad-bayersoien.de
DTSTART;TZID=Europe/Berlin;VALUE=DATE:20260501
DTEND;TZID=Europe/Berlin;VALUE=DATE:20260502
DTSTAMP:20260307T172744Z
URL:https://blaskapelle-bad-bayersoien.de/events/maibaumaufstellung-2/
SUMMARY:Maibaumaufstellung
DESCRIPTION:
CATEGORIES:Feste und Feiern
LOCATION:Brandstatt\, Brandstatt 1\, Bad Bayersoien\, Deutschland
GEO:47.691761;10.99421
X-APPLE-STRUCTURED-LOCATION;VALUE=URI;X-ADDRESS=Brandstatt 1\, Bad Bayersoi
 en\, Deutschland;X-APPLE-RADIUS=100;X-TITLE=Brandstatt:geo:47.691761,10.99
 421
END:VEVENT
BEGIN:VTIMEZONE
TZID:Europe/Berlin
X-LIC-LOCATION:Europe/Berlin
BEGIN:DAYLIGHT
DTSTART:20260329T030000
TZOFFSETFROM:+0100
TZOFFSETTO:+0200
TZNAME:CEST
END:DAYLIGHT
END:VTIMEZONE
END:VCALENDAR