BEGIN:VCALENDAR
VERSION:2.0
PRODID:-//wp-events-plugin.com//6.4.6.4//EN
TZID:Europe/Berlin
X-WR-TIMEZONE:Europe/Berlin
BEGIN:VEVENT
UID:271@blaskapelle-bad-bayersoien.de
DTSTART;TZID=Europe/Berlin:20250704T180000
DTEND;TZID=Europe/Berlin:20250704T180000
DTSTAMP:20250404T103855Z
URL:https://blaskapelle-bad-bayersoien.de/events/lichterfest-12/
SUMMARY:Lichterfest
DESCRIPTION:Mit gemütlicher Biergartenstimmung geht es am späten Nachmitt
 ag in der Brandstatt los\, für das leibliche Wohl sorgen wir mit Speisen 
 vom Grill und aus der Pfanne sowie kühlen Getränken vom Fass. Zur Unterh
 altung spielt zuerst die Jugend\, später die Blaskapelle Bayersoien\, unt
 erstützt durch Auftritte vom Soier Trachtenverein. Bei Einbruch der Dunke
 lheit sorgen dann viele Lichter und Feuerschalen für eine romantische Ath
 mosphäre und die Bar lädt zum Bleiben ein.\n\nHier der Bericht zum Licht
 erfest 2022\n\nAusweichtermine bei schlechtem Wetter: Samstag 5.7. und Son
 ntag 6.7.\n\n
ATTACH;FMTTYPE=image/jpeg:https://blaskapelle-bad-bayersoien.de/wp-content
 /uploads/2022/10/20221021_Lichterfest2022_1.jpg
CATEGORIES:Feste und Feiern
LOCATION:Brandstatt\, Brandstatt 1\, Bad Bayersoien\, Deutschland
GEO:47.691761;10.99421
X-APPLE-STRUCTURED-LOCATION;VALUE=URI;X-ADDRESS=Brandstatt 1\, Bad Bayersoi
 en\, Deutschland;X-APPLE-RADIUS=100;X-TITLE=Brandstatt:geo:47.691761,10.99
 421
END:VEVENT
BEGIN:VTIMEZONE
TZID:Europe/Berlin
X-LIC-LOCATION:Europe/Berlin
BEGIN:DAYLIGHT
DTSTART:20250330T030000
TZOFFSETFROM:+0100
TZOFFSETTO:+0200
TZNAME:CEST
END:DAYLIGHT
END:VTIMEZONE
END:VCALENDAR