BEGIN:VCALENDAR
VERSION:2.0
PRODID:-//wp-events-plugin.com//6.4.6.4//EN
TZID:Europe/Berlin
X-WR-TIMEZONE:Europe/Berlin
BEGIN:VEVENT
UID:347@blaskapelle-bad-bayersoien.de
DTSTART;TZID=Europe/Berlin:20260619T190000
DTEND;TZID=Europe/Berlin:20260619T190000
DTSTAMP:20260307T175032Z
URL:https://blaskapelle-bad-bayersoien.de/events/johannifeuer-12/
SUMMARY:Johannifeuer
DESCRIPTION:Der Trachtenverein Bad Bayersoien lädt zum traditionellen Joha
 nnifeuer ein.\n\nBei Einbruch der Dunkelheit wird das Sonnwendfeuer entzü
 ndet und gemeinsam ein geselliger Sommerabend verbracht.\n\nFür Verpflegu
 ng ist gesorgt\, Plattlergruppen und Goaslschnalzer zeigen ihr Können in 
 mehreren Auftritten und die Blaskapelle spielt zu Tanz und Unterhaltung.
ATTACH;FMTTYPE=image/jpeg:https://blaskapelle-bad-bayersoien.de/wp-content
 /uploads/2026/03/Johanifeuer_2022.jpg
CATEGORIES:Feste und Feiern,Heimatabende
LOCATION:See\, Seeweg 104\, Bad Bayersoien\, Deutschland
GEO:47.688439;11.004066
X-APPLE-STRUCTURED-LOCATION;VALUE=URI;X-ADDRESS=Seeweg 104\, Bad Bayersoien
 \, Deutschland;X-APPLE-RADIUS=100;X-TITLE=See:geo:47.688439,11.004066
END:VEVENT
BEGIN:VTIMEZONE
TZID:Europe/Berlin
X-LIC-LOCATION:Europe/Berlin
BEGIN:DAYLIGHT
DTSTART:20260329T030000
TZOFFSETFROM:+0100
TZOFFSETTO:+0200
TZNAME:CEST
END:DAYLIGHT
END:VTIMEZONE
END:VCALENDAR