BEGIN:VCALENDAR
VERSION:2.0
PRODID:-//wp-events-plugin.com//6.4.6.4//EN
TZID:Europe/Berlin
X-WR-TIMEZONE:Europe/Berlin
BEGIN:VEVENT
UID:178@blaskapelle-bad-bayersoien.de
DTSTART;TZID=Europe/Berlin:20240609T140000
DTEND;TZID=Europe/Berlin:20240609T140000
DTSTAMP:20240303T213257Z
URL:https://blaskapelle-bad-bayersoien.de/events/gaufest-spatzenhausen/
SUMMARY:Gaufest Spatzenhausen
DESCRIPTION:
CATEGORIES:Festzüge
LOCATION:Spatzenhausen\, -\, Spatzenhausen\, Deutschland
GEO:47.72243;11.201078
X-APPLE-STRUCTURED-LOCATION;VALUE=URI;X-ADDRESS=-\, Spatzenhausen\, Deutsch
 land;X-APPLE-RADIUS=100;X-TITLE=Spatzenhausen:geo:47.72243,11.201078
END:VEVENT
BEGIN:VTIMEZONE
TZID:Europe/Berlin
X-LIC-LOCATION:Europe/Berlin
BEGIN:DAYLIGHT
DTSTART:20240331T030000
TZOFFSETFROM:+0100
TZOFFSETTO:+0200
TZNAME:CEST
END:DAYLIGHT
END:VTIMEZONE
END:VCALENDAR