BEGIN:VCALENDAR
VERSION:2.0
PRODID:-//wp-events-plugin.com//6.4.6.4//EN
TZID:Europe/Berlin
X-WR-TIMEZONE:Europe/Berlin
BEGIN:VEVENT
UID:345@blaskapelle-bad-bayersoien.de
DTSTART;TZID=Europe/Berlin:20260604T090000
DTEND;TZID=Europe/Berlin:20260604T090000
DTSTAMP:20260307T173845Z
URL:https://blaskapelle-bad-bayersoien.de/events/fronleichnam-10/
SUMMARY:Fronleichnam
DESCRIPTION:
CATEGORIES:Kirchlich
LOCATION:Kirchplatz\, Dorfstraße 45\, Bad Bayersoien\, Deutschland
GEO:47.691143;10.994778
X-APPLE-STRUCTURED-LOCATION;VALUE=URI;X-ADDRESS=Dorfstraße 45\, Bad Bayers
 oien\, Deutschland;X-APPLE-RADIUS=100;X-TITLE=Kirchplatz:geo:47.691143,10.
 994778
END:VEVENT
BEGIN:VTIMEZONE
TZID:Europe/Berlin
X-LIC-LOCATION:Europe/Berlin
BEGIN:DAYLIGHT
DTSTART:20260329T030000
TZOFFSETFROM:+0100
TZOFFSETTO:+0200
TZNAME:CEST
END:DAYLIGHT
END:VTIMEZONE
END:VCALENDAR