BEGIN:VCALENDAR
VERSION:2.0
PRODID:-//wp-events-plugin.com//6.4.6.4//EN
TZID:Europe/Berlin
X-WR-TIMEZONE:Europe/Berlin
BEGIN:VEVENT
UID:167@blaskapelle-bad-bayersoien.de
DTSTART;TZID=Europe/Berlin:20240317T090000
DTEND;TZID=Europe/Berlin:20240317T100000
DTSTAMP:20240303T211538Z
URL:https://blaskapelle-bad-bayersoien.de/events/fahrzeugweihe-ffw-bad-bay
 ersoien/
SUMMARY:Fahrzeugweihe FFW Bad Bayersoien
DESCRIPTION:
CATEGORIES:Kirchlich
LOCATION:Kirchplatz\, Dorfstraße 45\, Bad Bayersoien\, Deutschland
GEO:47.691143;10.994778
X-APPLE-STRUCTURED-LOCATION;VALUE=URI;X-ADDRESS=Dorfstraße 45\, Bad Bayers
 oien\, Deutschland;X-APPLE-RADIUS=100;X-TITLE=Kirchplatz:geo:47.691143,10.
 994778
END:VEVENT
BEGIN:VTIMEZONE
TZID:Europe/Berlin
X-LIC-LOCATION:Europe/Berlin
BEGIN:STANDARD
DTSTART:20231029T020000
TZOFFSETFROM:+0200
TZOFFSETTO:+0100
TZNAME:CET
END:STANDARD
END:VTIMEZONE
END:VCALENDAR