BEGIN:VCALENDAR
VERSION:2.0
PRODID:-//wp-events-plugin.com//6.4.6.4//EN
TZID:Europe/Berlin
X-WR-TIMEZONE:Europe/Berlin
BEGIN:VEVENT
UID:342@blaskapelle-bad-bayersoien.de
DTSTART;TZID=Europe/Berlin:20260515T200000
DTEND;TZID=Europe/Berlin:20260515T230000
DTSTAMP:20260307T173118Z
URL:https://blaskapelle-bad-bayersoien.de/events/brauchtumsabend-9/
SUMMARY:Brauchtumsabend
DESCRIPTION:Der Trachtenverein macht Sie mit bayerischem Brauchtum wie Figu
 ren- und historischen Tänzen\, Schuhplattlern und Volksmusik bekannt.\n\n
 Besonders die Trachtenjugend und -kinder zeigen ihr Können mit den versch
 iedenen Plattlern und Volkstänzen.\n\nBei freiem Eintritt spielt die Blas
 kapelle Bad Bayersoien zum Tanz auf.
CATEGORIES:Heimatabende
LOCATION:Bayersoier Hof\, Dorfstraße 35\, Bad Bayersoien\, Deutschland
GEO:47.691929;10.993556
X-APPLE-STRUCTURED-LOCATION;VALUE=URI;X-ADDRESS=Dorfstraße 35\, Bad Bayers
 oien\, Deutschland;X-APPLE-RADIUS=100;X-TITLE=Bayersoier Hof:geo:47.691929
 ,10.993556
END:VEVENT
BEGIN:VTIMEZONE
TZID:Europe/Berlin
X-LIC-LOCATION:Europe/Berlin
BEGIN:DAYLIGHT
DTSTART:20260329T030000
TZOFFSETFROM:+0100
TZOFFSETTO:+0200
TZNAME:CEST
END:DAYLIGHT
END:VTIMEZONE
END:VCALENDAR