BEGIN:VCALENDAR
VERSION:2.0
PRODID:-//wp-events-plugin.com//6.4.6.4//EN
TZID:Europe/Berlin
X-WR-TIMEZONE:Europe/Berlin
BEGIN:VEVENT
UID:343@blaskapelle-bad-bayersoien.de
DTSTART;TZID=Europe/Berlin;VALUE=DATE:20260517
DTEND;TZID=Europe/Berlin;VALUE=DATE:20260518
DTSTAMP:20260307T181859Z
URL:https://blaskapelle-bad-bayersoien.de/events/bezirksmusikfest-huglfing
 /
SUMMARY:Bezirksmusikfest Huglfing
DESCRIPTION:https://www.huglfinger-festtage.de/
ATTACH;FMTTYPE=image/jpeg:https://blaskapelle-bad-bayersoien.de/wp-content
 /uploads/2026/03/Huglfinger_Festtage_Logo.jpg
CATEGORIES:Festzelte,Festzüge
LOCATION:Huglfing\, -\, Huglfing\, 82386\, Deutschland
GEO:47.768432;11.156468
X-APPLE-STRUCTURED-LOCATION;VALUE=URI;X-ADDRESS=-\, Huglfing\, 82386\, Deut
 schland;X-APPLE-RADIUS=100;X-TITLE=Huglfing:geo:47.768432,11.156468
END:VEVENT
BEGIN:VTIMEZONE
TZID:Europe/Berlin
X-LIC-LOCATION:Europe/Berlin
BEGIN:DAYLIGHT
DTSTART:20260329T030000
TZOFFSETFROM:+0100
TZOFFSETTO:+0200
TZNAME:CEST
END:DAYLIGHT
END:VTIMEZONE
END:VCALENDAR