BEGIN:VCALENDAR
VERSION:2.0
PRODID:-//wp-events-plugin.com//6.4.6.4//EN
TZID:Europe/Berlin
X-WR-TIMEZONE:Europe/Berlin
BEGIN:VEVENT
UID:350@blaskapelle-bad-bayersoien.de
DTSTART;TZID=Europe/Berlin;VALUE=DATE:20260718
DTEND;TZID=Europe/Berlin;VALUE=DATE:20260719
DTSTAMP:20260307T181626Z
URL:https://blaskapelle-bad-bayersoien.de/events/asm-marsch-tattoo/
SUMMARY:ASM Marsch Tattoo
DESCRIPTION:Anlässlich des 100-jährigen Jubiläums des Allgäu-Schwäbisc
 hen Musikbundes erlebt Kaufbeuren am Samstag\, 18. Juli 2026 in der energi
 e schwaben arena ein eindrucksvolles Blasmusik-Großereignis\, wie es unse
 re Region nur selten sieht.\n\nFreuen Sie sich auf eine mitreißende Show 
 mit Spitzenensembles aus dem In- und Ausland – kraftvoll\, präzise und 
 voller Emotion. Tradition trifft auf moderne Choreografie\, musikalische E
 xzellenz auf perfekte Formation.\n\nMitwirkende Orchester und Ensembles:\n
 \n 	Heeresmusikkorps Ulm\n 	Militärmusik Vorarlberg\n 	Fascinating Drums\
 n 	ASM-Projektorchester\n 	Trachtenkapelle Gantschier\n 	Musikkapelle Naud
 ers\n 	Blaskapelle Bad Bayersoien\n 	Tanzformation Hollaria Augsburg\n 	Sp
 ielmanns- und Fanfarenzug Krumbach\n\nMehr Infos und Karten unter www.asm-
 tattoo2026.de
ATTACH;FMTTYPE=image/jpeg:https://blaskapelle-bad-bayersoien.de/wp-content
 /uploads/2026/03/asm-show_banner.jpg
CATEGORIES:Shows
LOCATION:Energie Schwaben Arena Kaufbeuren\, Bahnhofstraße 11\, Kaufbeuren
 \, Bayern\, 87600\, Deutschland
GEO:47.877436;10.629899
X-APPLE-STRUCTURED-LOCATION;VALUE=URI;X-ADDRESS=Bahnhofstraße 11\, Kaufbeu
 ren\, Bayern\, 87600\, Deutschland;X-APPLE-RADIUS=100;X-TITLE=Energie Schw
 aben Arena Kaufbeuren:geo:47.877436,10.629899
END:VEVENT
BEGIN:VTIMEZONE
TZID:Europe/Berlin
X-LIC-LOCATION:Europe/Berlin
BEGIN:DAYLIGHT
DTSTART:20260329T030000
TZOFFSETFROM:+0100
TZOFFSETTO:+0200
TZNAME:CEST
END:DAYLIGHT
END:VTIMEZONE
END:VCALENDAR