BEGIN:VCALENDAR
VERSION:2.0
PRODID:-//wp-events-plugin.com//6.4.6.4//EN
TZID:Europe/Berlin
X-WR-TIMEZONE:Europe/Berlin
BEGIN:VEVENT
UID:280@blaskapelle-bad-bayersoien.de
DTSTART;TZID=Europe/Berlin:20251019T100000
DTEND;TZID=Europe/Berlin:20251019T100000
DTSTAMP:20250404T110049Z
URL:https://blaskapelle-bad-bayersoien.de/events/andacht-fuer-verstorbene-
 vereinsmitglieder-4/
SUMMARY:Andacht für verstorbene Vereinsmitglieder
DESCRIPTION:
CATEGORIES:Kirchlich
LOCATION:Kirche\, St. Georg\, Brandstatt 4\, Bad Bayersoien\, Deutschland
GEO:47.691439;10.995635
X-APPLE-STRUCTURED-LOCATION;VALUE=URI;X-ADDRESS=Brandstatt 4\, Bad Bayersoi
 en\, Deutschland;X-APPLE-RADIUS=100;X-TITLE=Kirche\, St. Georg:geo:47.6914
 39,10.995635
END:VEVENT
BEGIN:VTIMEZONE
TZID:Europe/Berlin
X-LIC-LOCATION:Europe/Berlin
BEGIN:DAYLIGHT
DTSTART:20250330T030000
TZOFFSETFROM:+0100
TZOFFSETTO:+0200
TZNAME:CEST
END:DAYLIGHT
END:VTIMEZONE
END:VCALENDAR